BEGIN:VCALENDAR
VERSION:2.0
PRODID:-//RCPA - ECPv5.16.0//NONSGML v1.0//EN
CALSCALE:GREGORIAN
METHOD:PUBLISH
X-WR-CALNAME:RCPA
X-ORIGINAL-URL:https://paproviders.org
X-WR-CALDESC:Events for RCPA
BEGIN:VTIMEZONE
TZID:America/New_York
BEGIN:DAYLIGHT
TZOFFSETFROM:-0500
TZOFFSETTO:-0400
TZNAME:EDT
DTSTART:20230312T070000
END:DAYLIGHT
BEGIN:STANDARD
TZOFFSETFROM:-0400
TZOFFSETTO:-0500
TZNAME:EST
DTSTART:20231105T060000
END:STANDARD
END:VTIMEZONE
BEGIN:VEVENT
DTSTART;TZID=America/New_York:20231211T130000
DTEND;TZID=America/New_York:20231211T150000
DTSTAMP:20260423T045436
CREATED:20221121T150522Z
LAST-MODIFIED:20221121T150522Z
UID:34349-1702299600-1702306800@paproviders.org
SUMMARY:Children's Steering Committee
DESCRIPTION:
URL:https://paproviders.org/event/childrens-steering-committee-24/
LOCATION:RCPA (Penn Grant Centre)\, 777 E Park Drive\, Harrisburg\, PA\, 17111\, United States
GEO:40.2721124;-76.8129248
X-APPLE-STRUCTURED-LOCATION;VALUE=URI;X-ADDRESS=RCPA (Penn Grant Centre) 777 E Park Drive Harrisburg PA 17111 United States;X-APPLE-RADIUS=500;X-TITLE=777 E Park Drive:geo:-76.8129248,40.2721124
END:VEVENT
END:VCALENDAR