BEGIN:VCALENDAR
VERSION:2.0
PRODID:-//RCPA - ECPv5.16.0//NONSGML v1.0//EN
CALSCALE:GREGORIAN
METHOD:PUBLISH
X-WR-CALNAME:RCPA
X-ORIGINAL-URL:https://paproviders.org
X-WR-CALDESC:Events for RCPA
BEGIN:VTIMEZONE
TZID:America/New_York
BEGIN:DAYLIGHT
TZOFFSETFROM:-0500
TZOFFSETTO:-0400
TZNAME:EDT
DTSTART:20180311T070000
END:DAYLIGHT
BEGIN:STANDARD
TZOFFSETFROM:-0400
TZOFFSETTO:-0500
TZNAME:EST
DTSTART:20181104T060000
END:STANDARD
END:VTIMEZONE
BEGIN:VEVENT
DTSTART;TZID=America/New_York:20181205T130000
DTEND;TZID=America/New_York:20181205T160000
DTSTAMP:20260422T182212
CREATED:20171207T213728Z
LAST-MODIFIED:20181106T162459Z
UID:7091-1544014800-1544025600@paproviders.org
SUMMARY:Criminal Justice Committee
DESCRIPTION:Register  |  Nearby Restaurants & Hotels \nMeeting Materials:
URL:https://paproviders.org/event/criminal-justice-committee-17/
LOCATION:RCPA Conference Room\, 777 E Park Drive\, Harrisburg\, PA\, 17111\, United States
END:VEVENT
END:VCALENDAR