BEGIN:VCALENDAR
VERSION:2.0
PRODID:-//RCPA - ECPv5.16.0//NONSGML v1.0//EN
CALSCALE:GREGORIAN
METHOD:PUBLISH
X-WR-CALNAME:RCPA
X-ORIGINAL-URL:https://paproviders.org
X-WR-CALDESC:Events for RCPA
BEGIN:VTIMEZONE
TZID:America/New_York
BEGIN:DAYLIGHT
TZOFFSETFROM:-0500
TZOFFSETTO:-0400
TZNAME:EDT
DTSTART:20240310T070000
END:DAYLIGHT
BEGIN:STANDARD
TZOFFSETFROM:-0400
TZOFFSETTO:-0500
TZNAME:EST
DTSTART:20241103T060000
END:STANDARD
END:VTIMEZONE
BEGIN:VEVENT
DTSTART;TZID=America/New_York:20241017T090000
DTEND;TZID=America/New_York:20241017T100000
DTSTAMP:20260422T121007
CREATED:20231108T190411Z
LAST-MODIFIED:20241009T172915Z
UID:39955-1729155600-1729159200@paproviders.org
SUMMARY:Government Affairs Committee
DESCRIPTION:This meeting has been cancelled.
URL:https://paproviders.org/event/government-affairs-committee-42/
LOCATION:Webcast
END:VEVENT
END:VCALENDAR