BEGIN:VCALENDAR
VERSION:2.0
PRODID:-//RCPA - ECPv5.16.0//NONSGML v1.0//EN
CALSCALE:GREGORIAN
METHOD:PUBLISH
X-WR-CALNAME:RCPA
X-ORIGINAL-URL:https://paproviders.org
X-WR-CALDESC:Events for RCPA
BEGIN:VTIMEZONE
TZID:America/New_York
BEGIN:DAYLIGHT
TZOFFSETFROM:-0500
TZOFFSETTO:-0400
TZNAME:EDT
DTSTART:20240310T070000
END:DAYLIGHT
BEGIN:STANDARD
TZOFFSETFROM:-0400
TZOFFSETTO:-0500
TZNAME:EST
DTSTART:20241103T060000
END:STANDARD
END:VTIMEZONE
BEGIN:VEVENT
DTSTART;TZID=America/New_York:20241121T090000
DTEND;TZID=America/New_York:20241121T100000
DTSTAMP:20260422T091140
CREATED:20231108T192356Z
LAST-MODIFIED:20241120T153349Z
UID:39983-1732179600-1732183200@paproviders.org
SUMMARY:Government Affairs Committee
DESCRIPTION:Register  |  Agenda
URL:https://paproviders.org/event/government-affairs-committee-43/
LOCATION:Webcast
END:VEVENT
END:VCALENDAR