BEGIN:VCALENDAR
VERSION:2.0
PRODID:-//RCPA - ECPv5.16.0//NONSGML v1.0//EN
CALSCALE:GREGORIAN
METHOD:PUBLISH
X-WR-CALNAME:RCPA
X-ORIGINAL-URL:https://paproviders.org
X-WR-CALDESC:Events for RCPA
BEGIN:VTIMEZONE
TZID:America/New_York
BEGIN:DAYLIGHT
TZOFFSETFROM:-0500
TZOFFSETTO:-0400
TZNAME:EDT
DTSTART:20250309T070000
END:DAYLIGHT
BEGIN:STANDARD
TZOFFSETFROM:-0400
TZOFFSETTO:-0500
TZNAME:EST
DTSTART:20251102T060000
END:STANDARD
END:VTIMEZONE
BEGIN:VEVENT
DTSTART;TZID=America/New_York:20250918T090000
DTEND;TZID=America/New_York:20250918T100000
DTSTAMP:20260421T172241
CREATED:20241011T124009Z
LAST-MODIFIED:20250819T155213Z
UID:44616-1758186000-1758189600@paproviders.org
SUMMARY:Government Affairs Committee
DESCRIPTION:This meeting has been cancelled.
URL:https://paproviders.org/event/government-affairs-committee-52/
LOCATION:Webcast
END:VEVENT
END:VCALENDAR