BEGIN:VCALENDAR
VERSION:2.0
PRODID:-//RCPA - ECPv5.16.0//NONSGML v1.0//EN
CALSCALE:GREGORIAN
METHOD:PUBLISH
X-WR-CALNAME:RCPA
X-ORIGINAL-URL:https://paproviders.org
X-WR-CALDESC:Events for RCPA
BEGIN:VTIMEZONE
TZID:America/New_York
BEGIN:DAYLIGHT
TZOFFSETFROM:-0500
TZOFFSETTO:-0400
TZNAME:EDT
DTSTART:20250309T070000
END:DAYLIGHT
BEGIN:STANDARD
TZOFFSETFROM:-0400
TZOFFSETTO:-0500
TZNAME:EST
DTSTART:20251102T060000
END:STANDARD
END:VTIMEZONE
BEGIN:VEVENT
DTSTART;TZID=America/New_York:20250806T110000
DTEND;TZID=America/New_York:20250806T120000
DTSTAMP:20260421T184510
CREATED:20250520T132156Z
LAST-MODIFIED:20250707T122717Z
UID:47448-1754478000-1754481600@paproviders.org
SUMMARY:Hearing All Perspectives: The Development of a Multi-State\, Multi-Diagnosis Youth Advisory Council
DESCRIPTION:Visit our Conference website for details!
URL:https://paproviders.org/event/hearing-all-perspectives-the-development-of-a-multi-state-multi-diagnosis-youth-advisory-council/
LOCATION:Webcast
END:VEVENT
END:VCALENDAR