BEGIN:VCALENDAR
VERSION:2.0
PRODID:-//RCPA - ECPv5.16.0//NONSGML v1.0//EN
CALSCALE:GREGORIAN
METHOD:PUBLISH
X-WR-CALNAME:RCPA
X-ORIGINAL-URL:https://paproviders.org
X-WR-CALDESC:Events for RCPA
BEGIN:VTIMEZONE
TZID:America/New_York
BEGIN:DAYLIGHT
TZOFFSETFROM:-0500
TZOFFSETTO:-0400
TZNAME:EDT
DTSTART:20240310T070000
END:DAYLIGHT
BEGIN:STANDARD
TZOFFSETFROM:-0400
TZOFFSETTO:-0500
TZNAME:EST
DTSTART:20241103T060000
END:STANDARD
END:VTIMEZONE
BEGIN:VEVENT
DTSTART;TZID=America/New_York:20240621T100000
DTEND;TZID=America/New_York:20240621T113000
DTSTAMP:20260422T184358
CREATED:20240503T135758Z
LAST-MODIFIED:20240503T135758Z
UID:42504-1718964000-1718969400@paproviders.org
SUMMARY:Illuminate Leadership: Moving From Rockstar Contributor To Impactful Manager
DESCRIPTION:Register
URL:https://paproviders.org/event/illuminate-leadership-moving-from-rockstar-contributor-to-impactful-manager/
LOCATION:Webinar
END:VEVENT
END:VCALENDAR