BEGIN:VCALENDAR
VERSION:2.0
PRODID:-//RCPA - ECPv5.16.0//NONSGML v1.0//EN
CALSCALE:GREGORIAN
METHOD:PUBLISH
X-WR-CALNAME:RCPA
X-ORIGINAL-URL:https://paproviders.org
X-WR-CALDESC:Events for RCPA
BEGIN:VTIMEZONE
TZID:America/New_York
BEGIN:DAYLIGHT
TZOFFSETFROM:-0500
TZOFFSETTO:-0400
TZNAME:EDT
DTSTART:20180311T070000
END:DAYLIGHT
BEGIN:STANDARD
TZOFFSETFROM:-0400
TZOFFSETTO:-0500
TZNAME:EST
DTSTART:20181104T060000
END:STANDARD
END:VTIMEZONE
BEGIN:VEVENT
DTSTART;TZID=America/New_York:20180417T163000
DTEND;TZID=America/New_York:20180417T180000
DTSTAMP:20260422T231509
CREATED:20180319T135423Z
LAST-MODIFIED:20180319T150141Z
UID:7750-1523982600-1523988000@paproviders.org
SUMMARY:Legislative Reception in the Capitol Main Rotunda
DESCRIPTION:Register for reception here (same as Capitol Day link)
URL:https://paproviders.org/event/legislative-reception-in-the-capitol-main-rotunda/
LOCATION:Harrisburg Capitol Building
END:VEVENT
END:VCALENDAR