BEGIN:VCALENDAR
VERSION:2.0
PRODID:-//RCPA - ECPv5.16.0//NONSGML v1.0//EN
CALSCALE:GREGORIAN
METHOD:PUBLISH
X-WR-CALNAME:RCPA
X-ORIGINAL-URL:https://paproviders.org
X-WR-CALDESC:Events for RCPA
BEGIN:VTIMEZONE
TZID:America/New_York
BEGIN:DAYLIGHT
TZOFFSETFROM:-0500
TZOFFSETTO:-0400
TZNAME:EDT
DTSTART:20260308T070000
END:DAYLIGHT
BEGIN:STANDARD
TZOFFSETFROM:-0400
TZOFFSETTO:-0500
TZNAME:EST
DTSTART:20261101T060000
END:STANDARD
END:VTIMEZONE
BEGIN:VEVENT
DTSTART;TZID=America/New_York:20260324T110000
DTEND;TZID=America/New_York:20260324T120000
DTSTAMP:20260421T085705
CREATED:20251103T154235Z
LAST-MODIFIED:20260323T124426Z
UID:51170-1774350000-1774353600@paproviders.org
SUMMARY:Medical Rehabilitation Committee
DESCRIPTION:Register | Agenda
URL:https://paproviders.org/event/medical-rehabilitation-committee-19/
LOCATION:Webcast
END:VEVENT
END:VCALENDAR