BEGIN:VCALENDAR
VERSION:2.0
PRODID:-//RCPA - ECPv5.16.0//NONSGML v1.0//EN
CALSCALE:GREGORIAN
METHOD:PUBLISH
X-WR-CALNAME:RCPA
X-ORIGINAL-URL:https://paproviders.org
X-WR-CALDESC:Events for RCPA
BEGIN:VTIMEZONE
TZID:America/New_York
BEGIN:DAYLIGHT
TZOFFSETFROM:-0500
TZOFFSETTO:-0400
TZNAME:EDT
DTSTART:20250309T070000
END:DAYLIGHT
BEGIN:STANDARD
TZOFFSETFROM:-0400
TZOFFSETTO:-0500
TZNAME:EST
DTSTART:20251102T060000
END:STANDARD
END:VTIMEZONE
BEGIN:VEVENT
DTSTART;TZID=America/New_York:20250924T130000
DTEND;TZID=America/New_York:20250924T153000
DTSTAMP:20260421T184453
CREATED:20241011T125235Z
LAST-MODIFIED:20250923T142349Z
UID:44624-1758718800-1758727800@paproviders.org
SUMMARY:Physical Disabilities & Aging Division
DESCRIPTION:This meeting has been cancelled.
URL:https://paproviders.org/event/physical-disabilities-aging-division-27/
LOCATION:Webcast
END:VEVENT
END:VCALENDAR