BEGIN:VCALENDAR
VERSION:2.0
PRODID:-//RCPA - ECPv5.16.0//NONSGML v1.0//EN
CALSCALE:GREGORIAN
METHOD:PUBLISH
X-WR-CALNAME:RCPA
X-ORIGINAL-URL:https://paproviders.org
X-WR-CALDESC:Events for RCPA
BEGIN:VTIMEZONE
TZID:America/New_York
BEGIN:DAYLIGHT
TZOFFSETFROM:-0500
TZOFFSETTO:-0400
TZNAME:EDT
DTSTART:20240310T070000
END:DAYLIGHT
BEGIN:STANDARD
TZOFFSETFROM:-0400
TZOFFSETTO:-0500
TZNAME:EST
DTSTART:20241103T060000
END:STANDARD
END:VTIMEZONE
BEGIN:VEVENT
DTSTART;TZID=America/New_York:20240131T140000
DTEND;TZID=America/New_York:20240131T150000
DTSTAMP:20260422T210310
CREATED:20231212T142643Z
LAST-MODIFIED:20231212T142643Z
UID:40495-1706709600-1706713200@paproviders.org
SUMMARY:RCPA HealthCare Trust - Liviniti
DESCRIPTION:
URL:https://paproviders.org/event/rcpa-healthcare-trust-liviniti/
LOCATION:Webcast
END:VEVENT
END:VCALENDAR