BEGIN:VCALENDAR
VERSION:2.0
PRODID:-//RCPA - ECPv5.16.0//NONSGML v1.0//EN
CALSCALE:GREGORIAN
METHOD:PUBLISH
X-WR-CALNAME:RCPA
X-ORIGINAL-URL:https://paproviders.org
X-WR-CALDESC:Events for RCPA
BEGIN:VTIMEZONE
TZID:America/New_York
BEGIN:DAYLIGHT
TZOFFSETFROM:-0500
TZOFFSETTO:-0400
TZNAME:EDT
DTSTART:20230312T070000
END:DAYLIGHT
BEGIN:STANDARD
TZOFFSETFROM:-0400
TZOFFSETTO:-0500
TZNAME:EST
DTSTART:20231105T060000
END:STANDARD
END:VTIMEZONE
BEGIN:VEVENT
DTSTART;TZID=America/New_York:20231130T103000
DTEND;TZID=America/New_York:20231130T120000
DTSTAMP:20260423T045248
CREATED:20221121T145151Z
LAST-MODIFIED:20231030T120948Z
UID:34332-1701340200-1701345600@paproviders.org
SUMMARY:School-Based Behavioral Health Work Group
DESCRIPTION:Contact RCPA Policy Director Jim Sharp if you wish to attend this meeting.
URL:https://paproviders.org/event/school-based-behavioral-health-work-group-5/
LOCATION:Webcast
END:VEVENT
END:VCALENDAR