BEGIN:VCALENDAR
VERSION:2.0
PRODID:-//RCPA - ECPv5.16.0//NONSGML v1.0//EN
CALSCALE:GREGORIAN
METHOD:PUBLISH
X-WR-CALNAME:RCPA
X-ORIGINAL-URL:https://paproviders.org
X-WR-CALDESC:Events for RCPA
BEGIN:VTIMEZONE
TZID:America/New_York
BEGIN:DAYLIGHT
TZOFFSETFROM:-0500
TZOFFSETTO:-0400
TZNAME:EDT
DTSTART:20240310T070000
END:DAYLIGHT
BEGIN:STANDARD
TZOFFSETFROM:-0400
TZOFFSETTO:-0500
TZNAME:EST
DTSTART:20241103T060000
END:STANDARD
END:VTIMEZONE
BEGIN:VEVENT
DTSTART;TZID=America/New_York:20240711T130000
DTEND;TZID=America/New_York:20240711T140000
DTSTAMP:20260422T151811
CREATED:20240612T162751Z
LAST-MODIFIED:20240612T162751Z
UID:42979-1720702800-1720706400@paproviders.org
SUMMARY:SimplyHome Services for Performance-Based Contracting
DESCRIPTION:Register
URL:https://paproviders.org/event/simplyhome-services-for-performance-based-contracting/
LOCATION:Webcast
END:VEVENT
END:VCALENDAR