BEGIN:VCALENDAR
VERSION:2.0
PRODID:-//RCPA - ECPv5.16.0//NONSGML v1.0//EN
CALSCALE:GREGORIAN
METHOD:PUBLISH
X-WR-CALNAME:RCPA
X-ORIGINAL-URL:https://paproviders.org
X-WR-CALDESC:Events for RCPA
BEGIN:VTIMEZONE
TZID:America/New_York
BEGIN:DAYLIGHT
TZOFFSETFROM:-0500
TZOFFSETTO:-0400
TZNAME:EDT
DTSTART:20260308T070000
END:DAYLIGHT
BEGIN:STANDARD
TZOFFSETFROM:-0400
TZOFFSETTO:-0500
TZNAME:EST
DTSTART:20261101T060000
END:STANDARD
END:VTIMEZONE
BEGIN:VEVENT
DTSTART;TZID=America/New_York:20260310T090000
DTEND;TZID=America/New_York:20260310T120000
DTSTAMP:20260421T072322
CREATED:20251103T153555Z
LAST-MODIFIED:20260213T172720Z
UID:51156-1773133200-1773144000@paproviders.org
SUMMARY:SUD Treatment Services Committee
DESCRIPTION:Register
URL:https://paproviders.org/event/sud-treatment-services-committee-13/
LOCATION:Webcast
END:VEVENT
END:VCALENDAR