BEGIN:VCALENDAR
VERSION:2.0
PRODID:-//RCPA - ECPv5.16.0//NONSGML v1.0//EN
CALSCALE:GREGORIAN
METHOD:PUBLISH
X-WR-CALNAME:RCPA
X-ORIGINAL-URL:https://paproviders.org
X-WR-CALDESC:Events for RCPA
BEGIN:VTIMEZONE
TZID:America/New_York
BEGIN:DAYLIGHT
TZOFFSETFROM:-0500
TZOFFSETTO:-0400
TZNAME:EDT
DTSTART:20240310T070000
END:DAYLIGHT
BEGIN:STANDARD
TZOFFSETFROM:-0400
TZOFFSETTO:-0500
TZNAME:EST
DTSTART:20241103T060000
END:STANDARD
END:VTIMEZONE
BEGIN:VEVENT
DTSTART;TZID=America/New_York:20240828T100000
DTEND;TZID=America/New_York:20240828T113000
DTSTAMP:20260422T135315
CREATED:20240729T151659Z
LAST-MODIFIED:20240729T151659Z
UID:43527-1724839200-1724844600@paproviders.org
SUMMARY:Using Behavioral and Safety Analytics to Drive Accountable Systems and Financial Viability
DESCRIPTION:Register
URL:https://paproviders.org/event/using-behavioral-and-safety-analytics-to-drive-accountable-systems-and-financial-viability/
LOCATION:Webcast
END:VEVENT
END:VCALENDAR