BEGIN:VCALENDAR
VERSION:2.0
PRODID:-//RCPA - ECPv5.16.0//NONSGML v1.0//EN
CALSCALE:GREGORIAN
METHOD:PUBLISH
X-WR-CALNAME:RCPA
X-ORIGINAL-URL:https://paproviders.org
X-WR-CALDESC:Events for RCPA
BEGIN:VTIMEZONE
TZID:America/New_York
BEGIN:DAYLIGHT
TZOFFSETFROM:-0500
TZOFFSETTO:-0400
TZNAME:EDT
DTSTART:20230312T070000
END:DAYLIGHT
BEGIN:STANDARD
TZOFFSETFROM:-0400
TZOFFSETTO:-0500
TZNAME:EST
DTSTART:20231105T060000
END:STANDARD
END:VTIMEZONE
BEGIN:VEVENT
DTSTART;TZID=America/New_York:20231219T100000
DTEND;TZID=America/New_York:20231219T123000
DTSTAMP:20260423T031908
CREATED:20221121T150858Z
LAST-MODIFIED:20231218T162552Z
UID:34357-1702980000-1702989000@paproviders.org
SUMMARY:Med Rehab Committee
DESCRIPTION:This meeting has been cancelled. 
URL:https://paproviders.org/event/med-rehab-committee-15/
LOCATION:Webcast
END:VEVENT
BEGIN:VEVENT
DTSTART;TZID=America/New_York:20231219T100000
DTEND;TZID=America/New_York:20231219T120000
DTSTAMP:20260423T031908
CREATED:20221121T150942Z
LAST-MODIFIED:20231218T150147Z
UID:34359-1702980000-1702987200@paproviders.org
SUMMARY:Telehealth Operations Work Group
DESCRIPTION:Register  |  Agenda
URL:https://paproviders.org/event/telehealth-operations-work-group-4/
LOCATION:Webcast
END:VEVENT
END:VCALENDAR