BEGIN:VCALENDAR
VERSION:2.0
PRODID:-//RCPA - ECPv5.16.0//NONSGML v1.0//EN
CALSCALE:GREGORIAN
METHOD:PUBLISH
X-WR-CALNAME:RCPA
X-ORIGINAL-URL:https://paproviders.org
X-WR-CALDESC:Events for RCPA
BEGIN:VTIMEZONE
TZID:America/New_York
BEGIN:DAYLIGHT
TZOFFSETFROM:-0500
TZOFFSETTO:-0400
TZNAME:EDT
DTSTART:20240310T070000
END:DAYLIGHT
BEGIN:STANDARD
TZOFFSETFROM:-0400
TZOFFSETTO:-0500
TZNAME:EST
DTSTART:20241103T060000
END:STANDARD
END:VTIMEZONE
BEGIN:VEVENT
DTSTART;TZID=America/New_York:20240104T091500
DTEND;TZID=America/New_York:20240104T120000
DTSTAMP:20260423T014904
CREATED:20231106T135236Z
LAST-MODIFIED:20240103T165724Z
UID:39682-1704359700-1704369600@paproviders.org
SUMMARY:SCO Subcommittee
DESCRIPTION:Register | Agenda
URL:https://paproviders.org/event/sco-subcommittee-33/
LOCATION:Webcast
END:VEVENT
BEGIN:VEVENT
DTSTART;TZID=America/New_York:20240104T130000
DTEND;TZID=America/New_York:20240104T140000
DTSTAMP:20260423T014904
CREATED:20231106T135349Z
LAST-MODIFIED:20231220T131536Z
UID:39684-1704373200-1704376800@paproviders.org
SUMMARY:RCPA Member Benefits Webinar
DESCRIPTION:Register
URL:https://paproviders.org/event/rcpa-member-benefits-webinar/
LOCATION:Webcast
END:VEVENT
END:VCALENDAR