BEGIN:VCALENDAR
VERSION:2.0
PRODID:-//RCPA - ECPv5.16.0//NONSGML v1.0//EN
CALSCALE:GREGORIAN
METHOD:PUBLISH
X-WR-CALNAME:RCPA
X-ORIGINAL-URL:https://paproviders.org
X-WR-CALDESC:Events for RCPA
BEGIN:VTIMEZONE
TZID:America/New_York
BEGIN:DAYLIGHT
TZOFFSETFROM:-0500
TZOFFSETTO:-0400
TZNAME:EDT
DTSTART:20240310T070000
END:DAYLIGHT
BEGIN:STANDARD
TZOFFSETFROM:-0400
TZOFFSETTO:-0500
TZNAME:EST
DTSTART:20241103T060000
END:STANDARD
END:VTIMEZONE
BEGIN:VEVENT
DTSTART;TZID=America/New_York:20240111T110000
DTEND;TZID=America/New_York:20240111T123000
DTSTAMP:20260423T015008
CREATED:20231116T133743Z
LAST-MODIFIED:20231116T133743Z
UID:40141-1704970800-1704976200@paproviders.org
SUMMARY:IBHS Work Group
DESCRIPTION:Contact RCPA Policy Director Jim Sharp if you wish to attend this meeting.
URL:https://paproviders.org/event/ibhs-work-group-6/
LOCATION:Webcast
END:VEVENT
END:VCALENDAR