BEGIN:VCALENDAR
VERSION:2.0
PRODID:-//RCPA - ECPv5.16.0//NONSGML v1.0//EN
CALSCALE:GREGORIAN
METHOD:PUBLISH
X-WR-CALNAME:RCPA
X-ORIGINAL-URL:https://paproviders.org
X-WR-CALDESC:Events for RCPA
BEGIN:VTIMEZONE
TZID:America/New_York
BEGIN:DAYLIGHT
TZOFFSETFROM:-0500
TZOFFSETTO:-0400
TZNAME:EDT
DTSTART:20240310T070000
END:DAYLIGHT
BEGIN:STANDARD
TZOFFSETFROM:-0400
TZOFFSETTO:-0500
TZNAME:EST
DTSTART:20241103T060000
END:STANDARD
END:VTIMEZONE
BEGIN:VEVENT
DTSTART;TZID=America/New_York:20240411T140000
DTEND;TZID=America/New_York:20240411T150000
DTSTAMP:20260422T204138
CREATED:20240116T165834Z
LAST-MODIFIED:20240116T165834Z
UID:40870-1712844000-1712847600@paproviders.org
SUMMARY:IPRC Webinar: An Introduction to CARF International’s New Concussion Rehabilitation Program Standards
DESCRIPTION:
URL:https://paproviders.org/event/iprc-webinar-an-introduction-to-carf-internationals-new-concussion-rehabilitation-program-standards/
LOCATION:Webcast
END:VEVENT
END:VCALENDAR