BEGIN:VCALENDAR
VERSION:2.0
PRODID:-//RCPA - ECPv5.16.0//NONSGML v1.0//EN
CALSCALE:GREGORIAN
METHOD:PUBLISH
X-WR-CALNAME:RCPA
X-ORIGINAL-URL:https://paproviders.org
X-WR-CALDESC:Events for RCPA
BEGIN:VTIMEZONE
TZID:America/New_York
BEGIN:DAYLIGHT
TZOFFSETFROM:-0500
TZOFFSETTO:-0400
TZNAME:EDT
DTSTART:20240310T070000
END:DAYLIGHT
BEGIN:STANDARD
TZOFFSETFROM:-0400
TZOFFSETTO:-0500
TZNAME:EST
DTSTART:20241103T060000
END:STANDARD
END:VTIMEZONE
BEGIN:VEVENT
DTSTART;TZID=America/New_York:20240425T090000
DTEND;TZID=America/New_York:20240425T100000
DTSTAMP:20260422T204139
CREATED:20231108T172438Z
LAST-MODIFIED:20231108T172438Z
UID:39843-1714035600-1714039200@paproviders.org
SUMMARY:School-Based Behavioral Health Work Group
DESCRIPTION:Contact RCPA Policy Director Jim Sharp if you wish to attend this meeting.
URL:https://paproviders.org/event/school-based-behavioral-health-work-group-7/
LOCATION:Webcast
END:VEVENT
BEGIN:VEVENT
DTSTART;TZID=America/New_York:20240425T110000
DTEND;TZID=America/New_York:20240425T120000
DTSTAMP:20260422T204139
CREATED:20231108T172542Z
LAST-MODIFIED:20231108T172542Z
UID:39845-1714042800-1714046400@paproviders.org
SUMMARY:Children's Residential Services Work Group
DESCRIPTION:Contact RCPA Policy Director Jim Sharp if you wish to attend this meeting.
URL:https://paproviders.org/event/childrens-residential-services-work-group-2/
LOCATION:Webcast
END:VEVENT
END:VCALENDAR