BEGIN:VCALENDAR
VERSION:2.0
PRODID:-//RCPA - ECPv5.16.0//NONSGML v1.0//EN
CALSCALE:GREGORIAN
METHOD:PUBLISH
X-WR-CALNAME:RCPA
X-ORIGINAL-URL:https://paproviders.org
X-WR-CALDESC:Events for RCPA
BEGIN:VTIMEZONE
TZID:America/New_York
BEGIN:DAYLIGHT
TZOFFSETFROM:-0500
TZOFFSETTO:-0400
TZNAME:EDT
DTSTART:20240310T070000
END:DAYLIGHT
BEGIN:STANDARD
TZOFFSETFROM:-0400
TZOFFSETTO:-0500
TZNAME:EST
DTSTART:20241103T060000
END:STANDARD
END:VTIMEZONE
BEGIN:VEVENT
DTSTART;TZID=America/New_York:20240522T100000
DTEND;TZID=America/New_York:20240522T120000
DTSTAMP:20260422T184206
CREATED:20231108T174610Z
LAST-MODIFIED:20240513T164904Z
UID:39864-1716372000-1716379200@paproviders.org
SUMMARY:988/Crisis Work Group
DESCRIPTION:This meeting has been cancelled. 
URL:https://paproviders.org/event/988-crisis-work-group-6/
LOCATION:Webcast
END:VEVENT
END:VCALENDAR