BEGIN:VCALENDAR
VERSION:2.0
PRODID:-//RCPA - ECPv5.16.0//NONSGML v1.0//EN
CALSCALE:GREGORIAN
METHOD:PUBLISH
X-WR-CALNAME:RCPA
X-ORIGINAL-URL:https://paproviders.org
X-WR-CALDESC:Events for RCPA
BEGIN:VTIMEZONE
TZID:America/New_York
BEGIN:DAYLIGHT
TZOFFSETFROM:-0500
TZOFFSETTO:-0400
TZNAME:EDT
DTSTART:20240310T070000
END:DAYLIGHT
BEGIN:STANDARD
TZOFFSETFROM:-0400
TZOFFSETTO:-0500
TZNAME:EST
DTSTART:20241103T060000
END:STANDARD
END:VTIMEZONE
BEGIN:VEVENT
DTSTART;TZID=America/New_York:20240731T100000
DTEND;TZID=America/New_York:20240731T110000
DTSTAMP:20260422T134231
CREATED:20240710T160237Z
LAST-MODIFIED:20240710T160237Z
UID:43332-1722420000-1722423600@paproviders.org
SUMMARY:Break the Cycle: Stop Spend Downs to Save Benefits
DESCRIPTION:Register
URL:https://paproviders.org/event/break-the-cycle-stop-spend-downs-to-save-benefits/
LOCATION:Webcast
END:VEVENT
END:VCALENDAR