BEGIN:VCALENDAR
VERSION:2.0
PRODID:-//RCPA - ECPv5.16.0//NONSGML v1.0//EN
CALSCALE:GREGORIAN
METHOD:PUBLISH
X-WR-CALNAME:RCPA
X-ORIGINAL-URL:https://paproviders.org
X-WR-CALDESC:Events for RCPA
BEGIN:VTIMEZONE
TZID:America/New_York
BEGIN:DAYLIGHT
TZOFFSETFROM:-0500
TZOFFSETTO:-0400
TZNAME:EDT
DTSTART:20250309T070000
END:DAYLIGHT
BEGIN:STANDARD
TZOFFSETFROM:-0400
TZOFFSETTO:-0500
TZNAME:EST
DTSTART:20251102T060000
END:STANDARD
END:VTIMEZONE
BEGIN:VEVENT
DTSTART;TZID=America/New_York:20250115T100000
DTEND;TZID=America/New_York:20250115T120000
DTSTAMP:20260422T055121
CREATED:20241010T131011Z
LAST-MODIFIED:20250113T135121Z
UID:44435-1736935200-1736942400@paproviders.org
SUMMARY:Human Resources Committee
DESCRIPTION:Register | Agenda
URL:https://paproviders.org/event/human-resources-committee-35/
LOCATION:Webcast
END:VEVENT
BEGIN:VEVENT
DTSTART;TZID=America/New_York:20250115T130000
DTEND;TZID=America/New_York:20250115T140000
DTSTAMP:20260422T055121
CREATED:20241204T172234Z
LAST-MODIFIED:20241217T171344Z
UID:45322-1736946000-1736949600@paproviders.org
SUMMARY:RCPA Member Orientation Webinar
DESCRIPTION:Register
URL:https://paproviders.org/event/rcpa-member-orientation-webinar/
LOCATION:Webcast
END:VEVENT
END:VCALENDAR