BEGIN:VCALENDAR
VERSION:2.0
PRODID:-//RCPA - ECPv5.16.0//NONSGML v1.0//EN
CALSCALE:GREGORIAN
METHOD:PUBLISH
X-WR-CALNAME:RCPA
X-ORIGINAL-URL:https://paproviders.org
X-WR-CALDESC:Events for RCPA
BEGIN:VTIMEZONE
TZID:America/New_York
BEGIN:DAYLIGHT
TZOFFSETFROM:-0500
TZOFFSETTO:-0400
TZNAME:EDT
DTSTART:20250309T070000
END:DAYLIGHT
BEGIN:STANDARD
TZOFFSETFROM:-0400
TZOFFSETTO:-0500
TZNAME:EST
DTSTART:20251102T060000
END:STANDARD
END:VTIMEZONE
BEGIN:VEVENT
DTSTART;TZID=America/New_York:20250424T090000
DTEND;TZID=America/New_York:20250424T100000
DTSTAMP:20260422T005556
CREATED:20241010T161819Z
LAST-MODIFIED:20241010T162733Z
UID:44511-1745485200-1745488800@paproviders.org
SUMMARY:Children’s School-Based Mental Health Work Group
DESCRIPTION:Contact RCPA Policy Director Jim Sharp if you wish to attend this meeting.
URL:https://paproviders.org/event/childrens-school-based-mental-health-work-group-2/
LOCATION:Webcast
END:VEVENT
BEGIN:VEVENT
DTSTART;TZID=America/New_York:20250424T100000
DTEND;TZID=America/New_York:20250424T110000
DTSTAMP:20260422T005556
CREATED:20241010T161922Z
LAST-MODIFIED:20241010T162752Z
UID:44513-1745488800-1745492400@paproviders.org
SUMMARY:Children's Residential Work Group
DESCRIPTION:Contact RCPA Policy Director Jim Sharp if you wish to attend this meeting.
URL:https://paproviders.org/event/childrens-residential-work-group-2/
LOCATION:Webcast
END:VEVENT
BEGIN:VEVENT
DTSTART;TZID=America/New_York:20250424T130000
DTEND;TZID=America/New_York:20250424T160000
DTSTAMP:20260422T005556
CREATED:20241010T161957Z
LAST-MODIFIED:20241010T161957Z
UID:44515-1745499600-1745510400@paproviders.org
SUMMARY:BI Provider and CHC-MCO Meeting
DESCRIPTION:
URL:https://paproviders.org/event/bi-provider-and-chc-mco-meeting-2/
LOCATION:Webcast
END:VEVENT
END:VCALENDAR