BEGIN:VCALENDAR
VERSION:2.0
PRODID:-//RCPA - ECPv5.16.0//NONSGML v1.0//EN
CALSCALE:GREGORIAN
METHOD:PUBLISH
X-WR-CALNAME:RCPA
X-ORIGINAL-URL:https://paproviders.org
X-WR-CALDESC:Events for RCPA
BEGIN:VTIMEZONE
TZID:America/New_York
BEGIN:DAYLIGHT
TZOFFSETFROM:-0500
TZOFFSETTO:-0400
TZNAME:EDT
DTSTART:20250309T070000
END:DAYLIGHT
BEGIN:STANDARD
TZOFFSETFROM:-0400
TZOFFSETTO:-0500
TZNAME:EST
DTSTART:20251102T060000
END:STANDARD
END:VTIMEZONE
BEGIN:VEVENT
DTSTART;TZID=America/New_York:20250618T100000
DTEND;TZID=America/New_York:20250618T110000
DTSTAMP:20260421T213839
CREATED:20250515T151619Z
LAST-MODIFIED:20250602T130404Z
UID:47401-1750240800-1750244400@paproviders.org
SUMMARY:Tips for Hiring & How to Write a Winning Job Post
DESCRIPTION:Visit our Conference website for details! 
URL:https://paproviders.org/event/tips-for-hiring-how-to-write-a-winning-job-post/
LOCATION:Webcast
END:VEVENT
BEGIN:VEVENT
DTSTART;TZID=America/New_York:20250618T130000
DTEND;TZID=America/New_York:20250618T153000
DTSTAMP:20260421T213839
CREATED:20241010T164310Z
LAST-MODIFIED:20250617T124302Z
UID:44553-1750251600-1750260600@paproviders.org
SUMMARY:Physical Disabilities & Aging Division
DESCRIPTION:Register | Agenda
URL:https://paproviders.org/event/physical-disabilities-aging-division-24/
LOCATION:Webcast
END:VEVENT
END:VCALENDAR