BEGIN:VCALENDAR
VERSION:2.0
PRODID:-//RCPA - ECPv5.16.0//NONSGML v1.0//EN
CALSCALE:GREGORIAN
METHOD:PUBLISH
X-WR-CALNAME:RCPA
X-ORIGINAL-URL:https://paproviders.org
X-WR-CALDESC:Events for RCPA
BEGIN:VTIMEZONE
TZID:America/New_York
BEGIN:DAYLIGHT
TZOFFSETFROM:-0500
TZOFFSETTO:-0400
TZNAME:EDT
DTSTART:20250309T070000
END:DAYLIGHT
BEGIN:STANDARD
TZOFFSETFROM:-0400
TZOFFSETTO:-0500
TZNAME:EST
DTSTART:20251102T060000
END:STANDARD
END:VTIMEZONE
BEGIN:VEVENT
DTSTART;TZID=America/New_York:20250710T100000
DTEND;TZID=America/New_York:20250710T110000
DTSTAMP:20260421T201049
CREATED:20250603T125928Z
LAST-MODIFIED:20250610T140119Z
UID:47581-1752141600-1752145200@paproviders.org
SUMMARY:RCPA July Member Orientation
DESCRIPTION:Register
URL:https://paproviders.org/event/rcpa-july-member-orientation/
LOCATION:Webinar
END:VEVENT
BEGIN:VEVENT
DTSTART;TZID=America/New_York:20250710T110000
DTEND;TZID=America/New_York:20250710T123000
DTSTAMP:20260421T201049
CREATED:20241010T165148Z
LAST-MODIFIED:20241010T165148Z
UID:44567-1752145200-1752150600@paproviders.org
SUMMARY:IBHS Work Group
DESCRIPTION:Contact RCPA Policy Director Jim Sharp if you wish to attend this meeting.
URL:https://paproviders.org/event/ibhs-work-group-10/
LOCATION:Webcast
END:VEVENT
BEGIN:VEVENT
DTSTART;TZID=America/New_York:20250710T123000
DTEND;TZID=America/New_York:20250710T153000
DTSTAMP:20260421T201049
CREATED:20241010T165217Z
LAST-MODIFIED:20250709T122406Z
UID:44569-1752150600-1752161400@paproviders.org
SUMMARY:IDD Committee
DESCRIPTION:Register | Agenda
URL:https://paproviders.org/event/idd-committee-52/
LOCATION:Webcast
END:VEVENT
END:VCALENDAR