BEGIN:VCALENDAR
VERSION:2.0
PRODID:-//RCPA - ECPv5.16.0//NONSGML v1.0//EN
CALSCALE:GREGORIAN
METHOD:PUBLISH
X-WR-CALNAME:RCPA
X-ORIGINAL-URL:https://paproviders.org
X-WR-CALDESC:Events for RCPA
BEGIN:VTIMEZONE
TZID:America/New_York
BEGIN:DAYLIGHT
TZOFFSETFROM:-0500
TZOFFSETTO:-0400
TZNAME:EDT
DTSTART:20250309T070000
END:DAYLIGHT
BEGIN:STANDARD
TZOFFSETFROM:-0400
TZOFFSETTO:-0500
TZNAME:EST
DTSTART:20251102T060000
END:STANDARD
END:VTIMEZONE
BEGIN:VEVENT
DTSTART;TZID=America/New_York:20250722T110000
DTEND;TZID=America/New_York:20250722T120000
DTSTAMP:20260421T201114
CREATED:20250530T123601Z
LAST-MODIFIED:20250624T123403Z
UID:47538-1753182000-1753185600@paproviders.org
SUMMARY:SUD Workforce Trends in Pennsylvania: Strengths and Opportunities for Improvement
DESCRIPTION:Visit our Conference website for details!
URL:https://paproviders.org/event/sud-workforce-trends-in-pennsylvania-strengths-and-opportunities-for-improvement/
LOCATION:Webinar
END:VEVENT
END:VCALENDAR