BEGIN:VCALENDAR
VERSION:2.0
PRODID:-//RCPA - ECPv5.16.0//NONSGML v1.0//EN
CALSCALE:GREGORIAN
METHOD:PUBLISH
X-WR-CALNAME:RCPA
X-ORIGINAL-URL:https://paproviders.org
X-WR-CALDESC:Events for RCPA
BEGIN:VTIMEZONE
TZID:America/New_York
BEGIN:DAYLIGHT
TZOFFSETFROM:-0500
TZOFFSETTO:-0400
TZNAME:EDT
DTSTART:20250309T070000
END:DAYLIGHT
BEGIN:STANDARD
TZOFFSETFROM:-0400
TZOFFSETTO:-0500
TZNAME:EST
DTSTART:20251102T060000
END:STANDARD
END:VTIMEZONE
BEGIN:VEVENT
DTSTART;TZID=America/New_York:20250821T090000
DTEND;TZID=America/New_York:20250821T100000
DTSTAMP:20260421T183242
CREATED:20241011T122958Z
LAST-MODIFIED:20250807T133831Z
UID:44598-1755766800-1755770400@paproviders.org
SUMMARY:Government Affairs Committee
DESCRIPTION:This meeting has been cancelled. 
URL:https://paproviders.org/event/government-affairs-committee-51/
LOCATION:Webcast
END:VEVENT
BEGIN:VEVENT
DTSTART;TZID=America/New_York:20250821T100000
DTEND;TZID=America/New_York:20250821T110000
DTSTAMP:20260421T183242
CREATED:20250520T133616Z
LAST-MODIFIED:20250721T142956Z
UID:47452-1755770400-1755774000@paproviders.org
SUMMARY:From Data to Decisions: Optimizing EHR Success
DESCRIPTION:Visit our Conference website for details!
URL:https://paproviders.org/event/from-data-to-decisions-optimizing-ehr-success/
LOCATION:Webcast
END:VEVENT
END:VCALENDAR